BEGIN:VCALENDAR
VERSION:2.0
PRODID:-//Day Island Club - ECPv5.3.2.1//NONSGML v1.0//EN
CALSCALE:GREGORIAN
METHOD:PUBLISH
X-WR-CALNAME:Day Island Club
X-ORIGINAL-URL:https://dayisland.org
X-WR-CALDESC:Events for Day Island Club
BEGIN:VTIMEZONE
TZID:America/Los_Angeles
BEGIN:DAYLIGHT
TZOFFSETFROM:-0800
TZOFFSETTO:-0700
TZNAME:PDT
DTSTART:20240310T100000
END:DAYLIGHT
BEGIN:STANDARD
TZOFFSETFROM:-0700
TZOFFSETTO:-0800
TZNAME:PST
DTSTART:20241103T090000
END:STANDARD
END:VTIMEZONE
BEGIN:VEVENT
DTSTART;TZID=America/Los_Angeles:20240514T190000
DTEND;TZID=America/Los_Angeles:20240514T200000
DTSTAMP:20260420T201358
CREATED:20240505T004643Z
LAST-MODIFIED:20240505T004643Z
UID:1240-1715713200-1715716800@dayisland.org
SUMMARY:Annual Membership Meeting
DESCRIPTION:Day Island Club 2024 annual meeting\, 7 p.m. May 14 \nThe Day Island Club’s annual membership meeting will be held 7 p.m. May 14 at the Day Island Clubhouse. \nThe club membership will be asked to vote on three items: \n\n\nMinutes of the 2023 Day Island Club annual meeting \n\n\nDay Island Club board of trustee members – The terms of seven board members are up for renewal: Skye Overby\, Janice Verberg\, Doug Campbell\, Bob McCluskey\, Steve Gray\, Wendy Gray\, Susie Cowan \n\n\nProposed 2025 budget \n\n\nProxy votes \nIf you are unable to attend the meeting\, proxy votes will be accepted. Minutes of the 2023 annual meeting\, renewing board members\, 2024 financial statements\, and a proposed budget for 2025 will be posted on the clubhouse announcement board by May 7\, along with a sample ballot. These materials can also be emailed to you on request. Please review and email your proxy vote to awineke@yahoo.com.
URL:https://dayisland.org/event/annual-membership-meeting/
END:VEVENT
END:VCALENDAR