BEGIN:VCALENDAR
VERSION:2.0
PRODID:-//Day Island Club - ECPv5.3.2.1//NONSGML v1.0//EN
CALSCALE:GREGORIAN
METHOD:PUBLISH
X-WR-CALNAME:Day Island Club
X-ORIGINAL-URL:https://dayisland.org
X-WR-CALDESC:Events for Day Island Club
BEGIN:VTIMEZONE
TZID:America/Los_Angeles
BEGIN:DAYLIGHT
TZOFFSETFROM:-0800
TZOFFSETTO:-0700
TZNAME:PDT
DTSTART:20210314T100000
END:DAYLIGHT
BEGIN:STANDARD
TZOFFSETFROM:-0700
TZOFFSETTO:-0800
TZNAME:PST
DTSTART:20211107T090000
END:STANDARD
END:VTIMEZONE
BEGIN:VEVENT
DTSTART;TZID=America/Los_Angeles:20210810T170000
DTEND;TZID=America/Los_Angeles:20210810T200000
DTSTAMP:20260424T101737
CREATED:20210722T032447Z
LAST-MODIFIED:20210722T032507Z
UID:1083-1628614800-1628625600@dayisland.org
SUMMARY:Back to School Food Drive
DESCRIPTION:5-8 p.m. August 10 at the Clubhouse
URL:https://dayisland.org/event/back-to-school-food-drive-5-8-p-m/
END:VEVENT
END:VCALENDAR