BEGIN:VCALENDAR
VERSION:2.0
PRODID:-//Day Island Club - ECPv5.3.2.1//NONSGML v1.0//EN
CALSCALE:GREGORIAN
METHOD:PUBLISH
X-WR-CALNAME:Day Island Club
X-ORIGINAL-URL:https://dayisland.org
X-WR-CALDESC:Events for Day Island Club
BEGIN:VTIMEZONE
TZID:America/Los_Angeles
BEGIN:DAYLIGHT
TZOFFSETFROM:-0800
TZOFFSETTO:-0700
TZNAME:PDT
DTSTART:20220313T100000
END:DAYLIGHT
BEGIN:STANDARD
TZOFFSETFROM:-0700
TZOFFSETTO:-0800
TZNAME:PST
DTSTART:20221106T090000
END:STANDARD
END:VTIMEZONE
BEGIN:VEVENT
DTSTART;TZID=America/Los_Angeles:20220118T200000
DTEND;TZID=America/Los_Angeles:20220118T210000
DTSTAMP:20260423T172240
CREATED:20211028T004658Z
LAST-MODIFIED:20211028T004658Z
UID:1117-1642536000-1642539600@dayisland.org
SUMMARY:DIC board meeting
DESCRIPTION:After new member orientation.
URL:https://dayisland.org/event/dic-board-meeting/
END:VEVENT
END:VCALENDAR