BEGIN:VCALENDAR
VERSION:2.0
PRODID:-//Day Island Club - ECPv5.3.2.1//NONSGML v1.0//EN
CALSCALE:GREGORIAN
METHOD:PUBLISH
X-WR-CALNAME:Day Island Club
X-ORIGINAL-URL:https://dayisland.org
X-WR-CALDESC:Events for Day Island Club
BEGIN:VTIMEZONE
TZID:America/Los_Angeles
BEGIN:DAYLIGHT
TZOFFSETFROM:-0800
TZOFFSETTO:-0700
TZNAME:PDT
DTSTART:20190310T100000
END:DAYLIGHT
BEGIN:STANDARD
TZOFFSETFROM:-0700
TZOFFSETTO:-0800
TZNAME:PST
DTSTART:20191103T090000
END:STANDARD
END:VTIMEZONE
BEGIN:VEVENT
DTSTART;TZID=America/Los_Angeles:20191201T190000
DTEND;TZID=America/Los_Angeles:20191201T193000
DTSTAMP:20260425T211724
CREATED:20190906T024451Z
LAST-MODIFIED:20190906T025518Z
UID:967-1575226800-1575228600@dayisland.org
SUMMARY:Holiday park lighting
DESCRIPTION:
URL:https://dayisland.org/event/holiday-park-lighting-3/
END:VEVENT
END:VCALENDAR