BEGIN:VCALENDAR
VERSION:2.0
PRODID:-//Day Island Club - ECPv5.3.2.1//NONSGML v1.0//EN
CALSCALE:GREGORIAN
METHOD:PUBLISH
X-WR-CALNAME:Day Island Club
X-ORIGINAL-URL:https://dayisland.org
X-WR-CALDESC:Events for Day Island Club
BEGIN:VTIMEZONE
TZID:America/Los_Angeles
BEGIN:DAYLIGHT
TZOFFSETFROM:-0800
TZOFFSETTO:-0700
TZNAME:PDT
DTSTART:20210314T100000
END:DAYLIGHT
BEGIN:STANDARD
TZOFFSETFROM:-0700
TZOFFSETTO:-0800
TZNAME:PST
DTSTART:20211107T090000
END:STANDARD
END:VTIMEZONE
BEGIN:VEVENT
DTSTART;TZID=America/Los_Angeles:20210911T170000
DTEND;TZID=America/Los_Angeles:20210911T210000
DTSTAMP:20260424T033329
CREATED:20210628T014834Z
LAST-MODIFIED:20210722T041336Z
UID:1080-1631379600-1631394000@dayisland.org
SUMMARY:OCTOFest!
DESCRIPTION:Celebrate OCTOFest with the club\, including a street party with music by Rock ‘n Roll Magic\, and announcing the winner for our club octopus naming contest. Food starts at 5 p.m.\, music at 6 p.m.
URL:https://dayisland.org/event/octofest/
LOCATION:Day Island Club House\, University Place\, WA\, 98466\, United States
END:VEVENT
END:VCALENDAR