BEGIN:VCALENDAR
VERSION:2.0
PRODID:-//Day Island Club - ECPv5.3.2.1//NONSGML v1.0//EN
CALSCALE:GREGORIAN
METHOD:PUBLISH
X-WR-CALNAME:Day Island Club
X-ORIGINAL-URL:https://dayisland.org
X-WR-CALDESC:Events for Day Island Club
BEGIN:VTIMEZONE
TZID:America/Los_Angeles
BEGIN:DAYLIGHT
TZOFFSETFROM:-0800
TZOFFSETTO:-0700
TZNAME:PDT
DTSTART:20210314T100000
END:DAYLIGHT
BEGIN:STANDARD
TZOFFSETFROM:-0700
TZOFFSETTO:-0800
TZNAME:PST
DTSTART:20211107T090000
END:STANDARD
END:VTIMEZONE
BEGIN:VEVENT
DTSTART;TZID=America/Los_Angeles:20211205T190000
DTEND;TZID=America/Los_Angeles:20211205T200000
DTSTAMP:20260423T203936
CREATED:20211130T022155Z
LAST-MODIFIED:20211130T022155Z
UID:1133-1638730800-1638734400@dayisland.org
SUMMARY:Park lighting - 7 p.m.
DESCRIPTION:At 7 p.m. Sunday Dec. 5\, we will start the holiday season by turning on the Christmas lights in the Day Island Park\, plus enjoy some hot chocolate and carols.
URL:https://dayisland.org/event/park-lighting-7-p-m/
END:VEVENT
END:VCALENDAR