BEGIN:VCALENDAR
VERSION:2.0
PRODID:-//Day Island Club - ECPv5.3.2.1//NONSGML v1.0//EN
CALSCALE:GREGORIAN
METHOD:PUBLISH
X-WR-CALNAME:Day Island Club
X-ORIGINAL-URL:https://dayisland.org
X-WR-CALDESC:Events for Day Island Club
BEGIN:VTIMEZONE
TZID:America/Los_Angeles
BEGIN:DAYLIGHT
TZOFFSETFROM:-0800
TZOFFSETTO:-0700
TZNAME:PDT
DTSTART:20220313T100000
END:DAYLIGHT
BEGIN:STANDARD
TZOFFSETFROM:-0700
TZOFFSETTO:-0800
TZNAME:PST
DTSTART:20221106T090000
END:STANDARD
END:VTIMEZONE
BEGIN:VEVENT
DTSTART;TZID=America/Los_Angeles:20220616T080000
DTEND;TZID=America/Los_Angeles:20220616T210000
DTSTAMP:20260423T091341
CREATED:20220514T235843Z
LAST-MODIFIED:20220514T235843Z
UID:1145-1655366400-1655413200@dayisland.org
SUMMARY:Private rental
DESCRIPTION:
URL:https://dayisland.org/event/private-rental-10/
END:VEVENT
END:VCALENDAR