BEGIN:VCALENDAR
VERSION:2.0
PRODID:-//Day Island Club - ECPv5.3.2.1//NONSGML v1.0//EN
CALSCALE:GREGORIAN
METHOD:PUBLISH
X-WR-CALNAME:Day Island Club
X-ORIGINAL-URL:https://dayisland.org
X-WR-CALDESC:Events for Day Island Club
BEGIN:VTIMEZONE
TZID:America/Los_Angeles
BEGIN:DAYLIGHT
TZOFFSETFROM:-0800
TZOFFSETTO:-0700
TZNAME:PDT
DTSTART:20190310T100000
END:DAYLIGHT
BEGIN:STANDARD
TZOFFSETFROM:-0700
TZOFFSETTO:-0800
TZNAME:PST
DTSTART:20191103T090000
END:STANDARD
END:VTIMEZONE
BEGIN:VEVENT
DTSTART;TZID=America/Los_Angeles:20191202T080000
DTEND;TZID=America/Los_Angeles:20191202T170000
DTSTAMP:20260425T203500
CREATED:20191107T033751Z
LAST-MODIFIED:20191107T033751Z
UID:1034-1575273600-1575306000@dayisland.org
SUMMARY:Reading Club holiday decorations
DESCRIPTION:
URL:https://dayisland.org/event/reading-club-holiday-decorations/
END:VEVENT
END:VCALENDAR