BEGIN:VCALENDAR
VERSION:2.0
PRODID:-//Day Island Club - ECPv5.3.2.1//NONSGML v1.0//EN
CALSCALE:GREGORIAN
METHOD:PUBLISH
X-WR-CALNAME:Day Island Club
X-ORIGINAL-URL:https://dayisland.org
X-WR-CALDESC:Events for Day Island Club
BEGIN:VTIMEZONE
TZID:America/Los_Angeles
BEGIN:DAYLIGHT
TZOFFSETFROM:-0800
TZOFFSETTO:-0700
TZNAME:PDT
DTSTART:20250309T100000
END:DAYLIGHT
BEGIN:STANDARD
TZOFFSETFROM:-0700
TZOFFSETTO:-0800
TZNAME:PST
DTSTART:20251102T090000
END:STANDARD
END:VTIMEZONE
BEGIN:VEVENT
DTSTART;TZID=America/Los_Angeles:20250601T080000
DTEND;TZID=America/Los_Angeles:20250601T080000
DTSTAMP:20260420T040328
CREATED:20250317T020102Z
LAST-MODIFIED:20250317T020102Z
UID:1260-1748764800-1748764800@dayisland.org
SUMMARY:Rental
DESCRIPTION: 
URL:https://dayisland.org/event/rental-4/
END:VEVENT
END:VCALENDAR