BEGIN:VCALENDAR
VERSION:2.0
PRODID:-//Day Island Club - ECPv5.3.2.1//NONSGML v1.0//EN
CALSCALE:GREGORIAN
METHOD:PUBLISH
X-WR-CALNAME:Day Island Club
X-ORIGINAL-URL:https://dayisland.org
X-WR-CALDESC:Events for Day Island Club
BEGIN:VTIMEZONE
TZID:America/Los_Angeles
BEGIN:DAYLIGHT
TZOFFSETFROM:-0800
TZOFFSETTO:-0700
TZNAME:PDT
DTSTART:20220313T100000
END:DAYLIGHT
BEGIN:STANDARD
TZOFFSETFROM:-0700
TZOFFSETTO:-0800
TZNAME:PST
DTSTART:20221106T090000
END:STANDARD
END:VTIMEZONE
BEGIN:VEVENT
DTSTART;TZID=America/Los_Angeles:20221210T093000
DTEND;TZID=America/Los_Angeles:20221210T113000
DTSTAMP:20260422T213211
CREATED:20221021T024150Z
LAST-MODIFIED:20221021T024150Z
UID:1167-1670664600-1670671800@dayisland.org
SUMMARY:Santa Breakfast
DESCRIPTION:
URL:https://dayisland.org/event/santa-breakfast-4/
END:VEVENT
END:VCALENDAR