BEGIN:VCALENDAR
VERSION:2.0
PRODID:-//Day Island Club - ECPv5.3.2.1//NONSGML v1.0//EN
CALSCALE:GREGORIAN
METHOD:PUBLISH
X-WR-CALNAME:Day Island Club
X-ORIGINAL-URL:https://dayisland.org
X-WR-CALDESC:Events for Day Island Club
BEGIN:VTIMEZONE
TZID:America/Los_Angeles
BEGIN:DAYLIGHT
TZOFFSETFROM:-0800
TZOFFSETTO:-0700
TZNAME:PDT
DTSTART:20200308T100000
END:DAYLIGHT
BEGIN:STANDARD
TZOFFSETFROM:-0700
TZOFFSETTO:-0800
TZNAME:PST
DTSTART:20201101T090000
END:STANDARD
END:VTIMEZONE
BEGIN:VEVENT
DTSTART;TZID=America/Los_Angeles:20201212T110000
DTEND;TZID=America/Los_Angeles:20201212T120000
DTSTAMP:20260424T172924
CREATED:20201210T022208Z
LAST-MODIFIED:20201210T022208Z
UID:1055-1607770800-1607774400@dayisland.org
SUMMARY:Santa visit
DESCRIPTION:Santa Claus will be making a safe\, socially distant visit to Day Island at 11 a.m. Saturday\, Dec. 12. Put out a sign saying “Santa Stop Here!” if you want to be sure that Mr. Claus finds your home. He will have candy canes and chocolates to share\, and children can write down their Christmas lists and pass them to Mr. Claus.
URL:https://dayisland.org/event/santa-visit/
END:VEVENT
END:VCALENDAR